BEGIN:VCALENDAR
VERSION:2.0
PRODID:-//Ellipse - ECPv4.9.13//NONSGML v1.0//EN
CALSCALE:GREGORIAN
METHOD:PUBLISH
X-WR-CALNAME:Ellipse
X-ORIGINAL-URL:https://ellipse.lu
X-WR-CALDESC:Events for Ellipse
BEGIN:VTIMEZONE
TZID:UTC
BEGIN:STANDARD
TZOFFSETFROM:+0000
TZOFFSETTO:+0000
TZNAME:UTC
DTSTART:20190101T000000
END:STANDARD
END:VTIMEZONE
BEGIN:VEVENT
DTSTART;TZID=UTC:20190427T120000
DTEND;TZID=UTC:20190427T160000
DTSTAMP:20200123T084022
CREATED:20190325T162618Z
LAST-MODIFIED:20190427T011649Z
UID:2913-1556366400-1556380800@ellipse.lu
SUMMARY:Ellipse Open Day
DESCRIPTION:Invite your friends and family with you to discover our club\, get properly informed\, enjoy some refreshments\, take part in the Golden Egg Treasure Hunt\, and take advantage of a 50% discount for those who would like to fully enjoy and experience all our facilities for the day. \n
URL:https://ellipse.lu/event/ellipse-open-day/
LOCATION:Ellipse\, 33 Avenue J.F. Kennedy\, L-1855 Kirchberg - Luxembourg\, Luxembourg\, Luxembourg
END:VEVENT
END:VCALENDAR