BEGIN:VCALENDAR
VERSION:2.0
PRODID:-//Ellipse - ECPv5.2.0//NONSGML v1.0//EN
CALSCALE:GREGORIAN
METHOD:PUBLISH
X-WR-CALNAME:Ellipse
X-ORIGINAL-URL:https://ellipse.lu
X-WR-CALDESC:Events for Ellipse
BEGIN:VTIMEZONE
TZID:UTC
BEGIN:STANDARD
TZOFFSETFROM:+0000
TZOFFSETTO:+0000
TZNAME:UTC
DTSTART:20190101T000000
END:STANDARD
END:VTIMEZONE
BEGIN:VEVENT
DTSTART;TZID=UTC:20190526T120000
DTEND;TZID=UTC:20190526T170000
DTSTAMP:20210721T093430
CREATED:20190517T123045Z
LAST-MODIFIED:20190517T123045Z
UID:3633-1558872000-1558890000@ellipse.lu
SUMMARY:Classic Dance Weekend (2)
DESCRIPTION:Do you remember thinking you would be more confident\, or have more fun at parties if you could simply master a few basic steps and moves from the classical social dances? Or do you just love to dance and can’t find enough opportunity to practice and perform? Please join us for a fun and active weekend course with other amateurs and a very professional instructor from Dance with the Stars.  More information will follow.
URL:https://ellipse.lu/event/classis-dance-weekend-2-2/
LOCATION:Ellipse\, 33 Avenue J.F. Kennedy\, L-1855 Kirchberg - Luxembourg\, Luxembourg\, Luxembourg
ATTACH;FMTTYPE=image/jpeg:https://ellipse.lu/wp-content/uploads/2019/04/ellipse_classic_dance.jpg
END:VEVENT
END:VCALENDAR