BEGIN:VCALENDAR
VERSION:2.0
PRODID:-//Ellipse - ECPv5.2.0//NONSGML v1.0//EN
CALSCALE:GREGORIAN
METHOD:PUBLISH
X-WR-CALNAME:Ellipse
X-ORIGINAL-URL:https://ellipse.lu
X-WR-CALDESC:Events for Ellipse
BEGIN:VTIMEZONE
TZID:UTC
BEGIN:STANDARD
TZOFFSETFROM:+0000
TZOFFSETTO:+0000
TZNAME:UTC
DTSTART:20190101T000000
END:STANDARD
END:VTIMEZONE
BEGIN:VEVENT
DTSTART;TZID=UTC:20191012T190000
DTEND;TZID=UTC:20191012T220000
DTSTAMP:20201210T161127
CREATED:20190325T162924Z
LAST-MODIFIED:20190413T193439Z
UID:2918-1570906800-1570917600@ellipse.lu
SUMMARY:10 Years Anniversary
DESCRIPTION:2019 is our Anniversary Year. On the 12th of October 2019 Ellipse Fitness & Wellness will be celebrating our 10 years as promoter of Healthy Happiness in Luxembourg. \nPlease save the date –  we would love to share those very special Ellipse Moments with as many as possible of you. \nCelebrating Ellipse means celebrating all of you\, our members and visitors\, who bring this place to life every day. \nIt also means celebrating your partners\, kids\, friends and colleagues\, who patiently wait for you and cover for you and let you take care of you for them. \nThey are all welcome to join you and us for the Anniversary event. Please be on the lookout during time to come for more information and sign-up possibilities.
URL:https://ellipse.lu/event/10-years-anniversary/
LOCATION:Ellipse\, 33 Avenue J.F. Kennedy\, L-1855 Kirchberg - Luxembourg\, Luxembourg\, Luxembourg
ATTACH;FMTTYPE=image/jpeg:https://ellipse.lu/wp-content/uploads/2019/03/ellipse_10years_event.jpg
END:VEVENT
END:VCALENDAR